BEGIN:VCALENDAR
VERSION:2.0
PRODID:-//Eventin//Event Calendar//EN
CALSCALE:GREGORIAN
METHOD:PUBLISH
BEGIN:VEVENT
UID:661796e52b3c9e77d546969a051654b4@coloquinte.org
SUMMARY:LUNDIMOITOUT Quelles réactions face à la guerre ?
DESCRIPTION:Prochain lundimoitout\, ferme de la Coloquinte\, route d’Arpi
 gny 415 Marcellaz 74250. (19h30)\n\nLes bruits de bottes se rapprochent et 
 se font entendre. Panique générale ? ils étaient pourtant audibles lors
 qu’ils résonnaient en Afrique\, en Asie ou en Amérique. Il fallait just
 e tendre un peu l’oreille. Mêmes causes\, mêmes effets. Des armées s
 ’opposent pour défendre les intérêts géostratégiques et économiques
  des « nations »…. La discussion aura donc pour sujet les réponses p
 ossibles à l’absurdité criminelle de ces situations. Pacifisme \, non-v
 iolence\, insoumission\, désertion\, révolution sociale\, solidarités in
 ternationales…… les réponses sont multiples selon l’objectif à atte
 indre puisqu’il s’agit non seulement de savoir comment agir dans l’ur
 gence\, mais aussi comment agir pour que ces conflits militaires ne puissen
 t plus semer la désolation sur cette planète habitée.\n\nC’est donc su
 r la base d’une causerie populaire que le lundimoitout invite chacune et 
 chacun à venir s’exprimer librement.\n\nPrenez un peu à boire et grigno
 ter. On partage.
LOCATION:Online
DTSTAMP:20260421T101923Z
DTSTART:20220314T193000Z
DTEND:20260421T220000Z
END:VEVENT
END:VCALENDAR
