BEGIN:VCALENDAR
VERSION:2.0
PRODID:-//Eventin//Event Calendar//EN
CALSCALE:GREGORIAN
METHOD:PUBLISH
BEGIN:VEVENT
UID:f30a80385fdabdd4d78d90150c07065d@coloquinte.org
SUMMARY:Permanence LⒶ Biblio &amp\; Mercredimoitout
DESCRIPTION:Les permanences de la bibliothèque anarchiste ont lieu de 18h 
 à 19h30 \n\n\n\nA partir de 19h30\, démarrent les discussions à visées 
 libertaires du Mercredimoitout.\n\n\n\nPrenez quelques victuailles à parta
 ger.\n\n\n\nThème du mois d'Avril : Le sexisme dans l'anti-sexisme\, qu'en
  est-il ?
LOCATION:Online
DTSTAMP:20260421T085446Z
DTSTART:20230405T160000Z
DTEND:20260421T200000Z
END:VEVENT
END:VCALENDAR
