BEGIN:VCALENDAR
VERSION:2.0
PRODID:-//Eventin//Event Calendar//EN
CALSCALE:GREGORIAN
METHOD:PUBLISH
BEGIN:VEVENT
UID:964e0d1dd177d3be79b4ecbe7a9a3519@coloquinte.org
SUMMARY:MERCREDISMOITOUT
DESCRIPTION:Discussion autour des jeux olympiques 19h00 / Biblio 18h00\n\n\
 n\nLe prochain Mercredismoitout aura lieu le mercredi 10 janvier dés 19h00
 \, sur le thème « Les Jeux Olympiques».\n\n\n\nA l'heure où vont se te
 nir les jeux d'été de Paris et certainement bientôt ceux d'hiver\, faiso
 ns un peu le tour des désastres écologiques\, des grands projets inutiles
 \, de la surveillance physique et numérique\, de la répression\, des expu
 lsions de travailleurs étrangers\, de la gentrification des centres villes
 \, de la flambée des prix\, etc et tout ce que vous pourrez emmener à cet
 te discussion.\n\n\n\nQuelques pistes pari-ski : https://no-jo.fr/\n\n\n\nE
 t bien sûr d’imaginer ce que deviendraient ces grands événements dans 
 une société libertaire débarrassée de contraintes économiques.prenez u
 n peu de grignotte et de buvotte\, sans excès…
LOCATION:415 Rte d'Arpigny\n74250 Marcellaz
DTSTAMP:20260421T102559Z
DTSTART:20240110T180000Z
DTEND:20260421T200000Z
END:VEVENT
END:VCALENDAR
